BEGIN:VCALENDAR
VERSION:2.0
PRODID:-//Cave Creek Museum - ECPv6.15.20//NONSGML v1.0//EN
CALSCALE:GREGORIAN
METHOD:PUBLISH
X-ORIGINAL-URL:https://cavecreekmuseum.org
X-WR-CALDESC:Events for Cave Creek Museum
REFRESH-INTERVAL;VALUE=DURATION:PT1H
X-Robots-Tag:noindex
X-PUBLISHED-TTL:PT1H
BEGIN:VTIMEZONE
TZID:America/Phoenix
BEGIN:STANDARD
TZOFFSETFROM:-0700
TZOFFSETTO:-0700
TZNAME:MST
DTSTART:20250101T000000
END:STANDARD
END:VTIMEZONE
BEGIN:VEVENT
DTSTART;TZID=America/Phoenix:20260207T140000
DTEND;TZID=America/Phoenix:20260207T160000
DTSTAMP:20260421T044830
CREATED:20240820T224544Z
LAST-MODIFIED:20260205T194535Z
UID:10000381-1770472800-1770480000@cavecreekmuseum.org
SUMMARY:SOLD OUT!! Cave Creek Museum Presents: Author Roger Naylor & "Celebrate the Route 66 Centennial"
DESCRIPTION:We are pleased to partner with the Holland Center in presenting Roger Naylor’s fascinating talk on Route 66.  The iconic highway celebrates its 100th birthday in 2026 and it has stories to tell!  The renowned author and museum favorite will discuss the Mother Road’s history and cultural significance. If the Grand Canyon is the heart of Arizona\, then Route 66 is the main artery. \nRoger Naylor is an award-winning Arizona author. He has been the freelance travel writer for the Arizona Republic since 2007.  He was inducted into the Arizona Tourism Hall of Fame in 2018 and is also the narrator of the Verde Canyon Railroad.  Naylor’s work has also appeared in the USA Today\, The Guardian\, Country Magazine\, Arizona Highways\, and dozens more. \nBooks will be for sale following the presentation\, including Naylor’s brand-new Arizona Route 66 Road Trip\, and his best-selling Arizona Kicks on Route 66. For more information\, visit www.rogernaylor.com. \nSOLD OUT!! \nAdmission is $10.  (No discounts or Culture Passes will be honored.)  Advance reservations are required.
URL:https://cavecreekmuseum.org/event/cave-creek-museum-presents-author-roger-naylor-celebrate-route-66-centennial/
LOCATION:Holland Community Center\, 34250 N. 60th Street\, Scottsdale\, 85266\, United States
CATEGORIES:Cave Creek Museum Presents:,Event Reservations,Kiwanis Sundays,Museum Events
ATTACH;FMTTYPE=image/webp:https://cavecreekmuseum.org/wp-content/uploads/image1.webp
ORGANIZER;CN="Cave Creek Museum":MAILTO:info@cavecreekmuseum.com
END:VEVENT
END:VCALENDAR